BEGIN:VCALENDAR
VERSION:2.0
PRODID:-// - ECPv6.15.20//NONSGML v1.0//EN
CALSCALE:GREGORIAN
METHOD:PUBLISH
X-ORIGINAL-URL:https://lcel.org.uk
X-WR-CALDESC:Events for 
REFRESH-INTERVAL;VALUE=DURATION:PT1H
X-Robots-Tag:noindex
X-PUBLISHED-TTL:PT1H
BEGIN:VTIMEZONE
TZID:UTC
BEGIN:STANDARD
TZOFFSETFROM:+0000
TZOFFSETTO:+0000
TZNAME:UTC
DTSTART:20180101T000000
END:STANDARD
END:VTIMEZONE
BEGIN:VEVENT
DTSTART;TZID=UTC:20241016T200000
DTEND;TZID=UTC:20241016T233000
DTSTAMP:20260424T160459
CREATED:20240905T100450Z
LAST-MODIFIED:20240905T100450Z
UID:179-1729108800-1729121400@lcel.org.uk
SUMMARY:Sharad Poonam 2024
DESCRIPTION:
URL:https://lcel.org.uk/event/sharad-poonam-2024
LOCATION:Coliseum Suite\, 300-310 High Road\, Ilford\, IG1 1QW
END:VEVENT
BEGIN:VEVENT
DTSTART;TZID=UTC:20241006T140000
DTEND;TZID=UTC:20241006T170000
DTSTAMP:20260424T160459
CREATED:20240905T101038Z
LAST-MODIFIED:20240905T101038Z
UID:187-1728223200-1728234000@lcel.org.uk
SUMMARY:Children's Garba Navratri 2024
DESCRIPTION:
URL:https://lcel.org.uk/event/childrens-garba-navratri-2024
LOCATION:Coliseum Suite\, 300-310 High Road\, Ilford\, IG1 1QW
END:VEVENT
BEGIN:VEVENT
DTSTART;TZID=UTC:20241003T203000
DTEND;TZID=UTC:20241012T233000
DTSTAMP:20260424T160459
CREATED:20240905T100749Z
LAST-MODIFIED:20240905T100749Z
UID:185-1727987400-1728775800@lcel.org.uk
SUMMARY:Navratri Celebrations 2024
DESCRIPTION:
URL:https://lcel.org.uk/event/navratri-celebrations-2024
LOCATION:Coliseum Suite\, 300-310 High Road\, Ilford\, IG1 1QW
END:VEVENT
BEGIN:VEVENT
DTSTART;TZID=UTC:20240929T140000
DTEND;TZID=UTC:20240929T170000
DTSTAMP:20260424T160459
CREATED:20240905T093542Z
LAST-MODIFIED:20240905T093542Z
UID:172-1727618400-1727629200@lcel.org.uk
SUMMARY:Pitru Bhajans
DESCRIPTION:
URL:https://lcel.org.uk/event/pitru-bhajans
LOCATION:Sorathia Prajapati Hall\, 63 Cleveland Road\, Ilford\, IG1 1ED\, United Kingdom
END:VEVENT
BEGIN:VEVENT
DTSTART;VALUE=DATE:20231015
DTEND;VALUE=DATE:20231028
DTSTAMP:20260424T160459
CREATED:20231013T083209Z
LAST-MODIFIED:20231013T083209Z
UID:160-1697328000-1698451199@lcel.org.uk
SUMMARY:Navratri 2023
DESCRIPTION:
URL:https://lcel.org.uk/event/navratri-2023
LOCATION:Coliseum Suite\, 300-310 High Road\, Ilford\, IG1 1QW
END:VEVENT
BEGIN:VEVENT
DTSTART;TZID=UTC:20220926T193000
DTEND;TZID=UTC:20221005T233000
DTSTAMP:20260424T160459
CREATED:20220918T165940Z
LAST-MODIFIED:20220918T171211Z
UID:150-1664220600-1665012600@lcel.org.uk
SUMMARY:Navratri Festival 2022
DESCRIPTION:To purchase tickets for Navratri 2022 on Eventbrite click HERE: \n  \n 
URL:https://lcel.org.uk/event/navratri-festival-2022
LOCATION:PRABAS Banqueting\, 300-310 High Road\, Ilford\, IG1 1QW\, United Kingdom
ATTACH;FMTTYPE=image/jpeg:https://lcel.org.uk/wp-content/uploads/2022/09/LCEL-Norta-flyer.jpg
END:VEVENT
BEGIN:VEVENT
DTSTART;TZID=UTC:20201017T200000
DTEND;TZID=UTC:20201025T213000
DTSTAMP:20260424T160459
CREATED:20201016T091623Z
LAST-MODIFIED:20201016T091623Z
UID:145-1602964800-1603661400@lcel.org.uk
SUMMARY:Navratri Festival 2020
DESCRIPTION:Our first Virtual Navratri celebrations \nDo join in and let family and friends know \nJai Mataji
URL:https://lcel.org.uk/event/navratri-festival-2020
ATTACH;FMTTYPE=image/jpeg:https://lcel.org.uk/wp-content/uploads/2020/10/LCEL-Norta.jpg
END:VEVENT
BEGIN:VEVENT
DTSTART;VALUE=DATE:20191215
DTEND;VALUE=DATE:20191216
DTSTAMP:20260424T160459
CREATED:20190925T120033Z
LAST-MODIFIED:20191116T111116Z
UID:111-1576368000-1576454399@lcel.org.uk
SUMMARY:Childrens Christmas Party - Sunday 15th Dec 2019
DESCRIPTION:
URL:https://lcel.org.uk/event/childrens-christmas-party-sunday-15th-dec-2019
ATTACH;FMTTYPE=image/jpeg:https://lcel.org.uk/wp-content/uploads/2019/09/Winter-Wonderland-poster_1.jpg
END:VEVENT
BEGIN:VEVENT
DTSTART;TZID=UTC:20190929T193000
DTEND;TZID=UTC:20191012T233000
DTSTAMP:20260424T160459
CREATED:20190917T073427Z
LAST-MODIFIED:20190925T120352Z
UID:62-1569785400-1570923000@lcel.org.uk
SUMMARY:Navratri Festival 2019
DESCRIPTION:NAVRATRI – Sunday 29th September 2019 – Monday 7th October 2019 \nOur popular annual Navratri programme will definitely be the talk of the town. Bringing religion and culture under one roof – it is an event not to be missed. Be an early bird and book your tickets! \nDISCO DANDIYA – FRIDAY 11th October 2019 \nWhat a better way to bring in Sharad Poonam\, other than a unique combination of Disco with Dandiya’s brought to you by Nimesh and friends from Music Masti. You’ll be sure to have your feet stamping and Dandiya’s tapping in no time! \nSHARAD POONAM – SATURDAY 12th OCTOBER 2019 \nAn elegant sea of white\, dancing under the moonlight will be the theme for our finale event – Sharad Poonam.
URL:https://lcel.org.uk/event/navratri-festival-2019
LOCATION:Oasis Banqueting\, 6 - 8 Thames Road\, Barking\, Essex\, IG11 0HZ\, United Kingdom
ATTACH;FMTTYPE=image/jpeg:https://lcel.org.uk/wp-content/uploads/2019/09/LCEL-Norta.jpg
END:VEVENT
BEGIN:VEVENT
DTSTART;TZID=UTC:20190713T200000
DTEND;TZID=UTC:20190713T220000
DTSTAMP:20260424T160459
CREATED:20190624T135920Z
LAST-MODIFIED:20190624T135920Z
UID:40-1563048000-1563055200@lcel.org.uk
SUMMARY:Bhajans
DESCRIPTION:
URL:https://lcel.org.uk/event/bhajans
LOCATION:Hariben Bachubhai Nagrecha Hall\, 198-201 Leyton Road\, London\, E15 1DT\, United Kingdom
ATTACH;FMTTYPE=image/jpeg:https://lcel.org.uk/wp-content/uploads/2019/06/LCEL-Bhajans1.jpg
END:VEVENT
END:VCALENDAR